BEGIN:VCALENDAR
VERSION:2.0
PRODID:-//swoogo.com//NONSGML kigkonsult.se iCalcreator 2.41.90//
CALSCALE:GREGORIAN
UID:30366530-6265-4464-b664-386662363837
BEGIN:VEVENT
UID:24468a12a8991c13c3e10b63b95fc360c4d89ba5@swoogo.com
DTSTAMP:20260422T205219Z
DESCRIPTION:
DTSTART:20221115T163000Z
DTEND:20221116T010000Z
LAST-MODIFIED:20260422T205219Z
LOCATION:https://knowledgecoop.swoogo.com/nmlsapproved-event-webinar-contin
 uing-education-November-15-2022/v/e
SEQUENCE:0
STATUS:CONFIRMED
SUMMARY:November Webinar:  8 Hour Federal Continuing Education
TRANSP:OPAQUE
X-ALT-DESC:
BEGIN:VALARM
UID:38626430-3363-4535-b330-653062356464
ACTION:DISPLAY
DESCRIPTION:
TRIGGER:-PT15M
END:VALARM
END:VEVENT
END:VCALENDAR
